BEGIN:VCALENDAR
VERSION:2.0
PRODID:-//ChamberMaster//Event Calendar 2.0//EN
METHOD:PUBLISH
X-PUBLISHED-TTL:P3D
REFRESH-INTERVAL:P3D
CALSCALE:GREGORIAN
BEGIN:VEVENT
DTSTART:20200923T160000Z
DTEND:20200923T180000Z
X-MICROSOFT-CDO-ALLDAYEVENT:FALSE
SUMMARY:Flu Shots with True Medical Testing
DESCRIPTION:True Medical Testing will be at the chamber office on Wednesday\, September 23rd from 11am - 1pm giving Flu Shots\, B12 and LIPO B Shots. \n\n	Most insurance accepted!\n	Bring insurance card and fill out consent form upon arrival. \n\nPlease register before hand!!
X-ALT-DESC;FMTTYPE=text/html:True Medical Testing will be at the chamber office on Wednesday\, September 23rd from 11am - 1pm giving Flu Shots\, B12 and LIPO B Shots.&nbsp\;\n<ul>\n	<li>Most insurance accepted!</li>\n	<li>Bring insurance card and fill out consent form upon arrival.&nbsp\;</li>\n</ul>\nPlease register before hand!!
LOCATION:Southaven Chamber of Commerce 500 Main Street Southaven\, MS 38671
UID:e.512.16503
SEQUENCE:3
DTSTAMP:20260423T133609Z
URL:https://southavenchamber-mosaic-gzcms.preview.gochambermaster.com/events/details/flu-shots-with-true-medical-testing-16503
END:VEVENT

END:VCALENDAR
