BEGIN:VCALENDAR
VERSION:2.0
PRODID:-//ChamberMaster//Event Calendar 2.0//EN
METHOD:PUBLISH
X-PUBLISHED-TTL:P3D
REFRESH-INTERVAL:P3D
CALSCALE:GREGORIAN
BEGIN:VEVENT
DTSTART:20220908T160000Z
DTEND:20220908T190000Z
X-MICROSOFT-CDO-ALLDAYEVENT:FALSE
SUMMARY:FIRST RESPONDER APPRECIATION LUNCH
DESCRIPTION:Take a load off\, bring the family and join us for a relaxing celebration of DeSoto County's First Responders! \n\n\n\nLunch catered by Landers Center
X-ALT-DESC;FMTTYPE=text/html:Take a load off\, bring the family and join us for a relaxing celebration of DeSoto County&#39\;s First Responders!&nbsp\;<br />\n<br />\nLunch catered by Landers Center
LOCATION:Landers Chrysler Dodge Jeep Ram 315 E. Goodman Rd Southaven\, MS 38671 662-349-3006
UID:e.512.17400
SEQUENCE:3
DTSTAMP:20260420T224249Z
URL:https://southavenchamber-mosaic-gzcms.preview.gochambermaster.com/events/details/first-responder-appreciation-lunch-09-08-2022-17400
END:VEVENT

END:VCALENDAR
