BEGIN:VCALENDAR
VERSION:2.0
PRODID:-//ChamberMaster//Event Calendar 2.0//EN
METHOD:PUBLISH
X-PUBLISHED-TTL:P3D
REFRESH-INTERVAL:P3D
CALSCALE:GREGORIAN
BEGIN:VEVENT
DTSTART:20191101T020000Z
DTEND:20191102T060000Z
X-MICROSOFT-CDO-ALLDAYEVENT:FALSE
SUMMARY:Festival of Frights
DESCRIPTION:Join us at Fox and Hound Southaven for a spooktacular 2-day festival of frights!\n\n--Costume contests on Oct 31st and Nov1st starting at 9pm\n\n--Live music on the patio on Oct31st\n\n--Live DJ on Nov1st\n\n--Signature drink specials \n\n--All day happy hour
X-ALT-DESC;FMTTYPE=text/html:<p>Join us at Fox and Hound Southaven for a spooktacular 2-day festival of frights!<br />\n--Costume contests on Oct 31st and Nov1st starting at 9pm<br />\n--Live music on the patio on Oct31st<br />\n--Live DJ on Nov1st<br />\n--Signature drink specials&nbsp\;<br />\n--All day happy hour</p>\n
LOCATION:
UID:e.512.15768
SEQUENCE:3
DTSTAMP:20260424T071236Z
URL:https://southavenchamber-mosaic-gzcms.preview.gochambermaster.com/events/details/festival-of-frights-15768
END:VEVENT

END:VCALENDAR
