BEGIN:VCALENDAR
VERSION:2.0
PRODID:-//ChamberMaster//Event Calendar 2.0//EN
METHOD:PUBLISH
X-PUBLISHED-TTL:P3D
REFRESH-INTERVAL:P3D
CALSCALE:GREGORIAN
BEGIN:VEVENT
DTSTART:20190917T230000Z
DTEND:20190918T010000Z
X-MICROSOFT-CDO-ALLDAYEVENT:FALSE
SUMMARY:FEEL THE TEAL IN YOUR HOTTEST HEALS ANNUAL OVARIAN CANCER AWARENESS & FUNDRAISER
DESCRIPTION:Join the Fight in Memory of My Sister Beatrice Miller & Remembering Crystal Scales\n\n\n\nFun \n\nFacts\n\nFood \n\nFellowship\n\nDoor Prizes\n\nRaffle Prizes\n\n\n\nHottest Heals Contest!
X-ALT-DESC;FMTTYPE=text/html:Join the Fight in Memory of My Sister Beatrice Miller &amp\; Remembering Crystal Scales<br />\n<br />\nFun&nbsp\;<br />\nFacts<br />\nFood&nbsp\;<br />\nFellowship<br />\nDoor Prizes<br />\nRaffle Prizes<br />\n<br />\nHottest Heals Contest!&nbsp\;
LOCATION:Home2Suites by Hilton 7595 Lodging Lane Olive Branch\, MS 38654
UID:e.512.14936
SEQUENCE:3
DTSTAMP:20260424T135106Z
URL:https://southavenchamber-mosaic-gzcms.preview.gochambermaster.com/events/details/feel-the-teal-in-your-hottest-heals-annual-ovarian-cancer-awareness-fundraiser-14936
END:VEVENT

END:VCALENDAR
