BEGIN:VCALENDAR
VERSION:2.0
PRODID:-//ChamberMaster//Event Calendar 2.0//EN
METHOD:PUBLISH
X-PUBLISHED-TTL:P3D
REFRESH-INTERVAL:P3D
CALSCALE:GREGORIAN
BEGIN:VEVENT
DTSTART:20200227T130000Z
DTEND:20200227T143000Z
X-MICROSOFT-CDO-ALLDAYEVENT:FALSE
SUMMARY:FCA Breakfast with Inky Johnson
DESCRIPTION:FCA presents Breakfast with Inky Johnson on February 27\, 2020 at the Landers Center in Southaven.\n\n\n\nAll proceeds will go to support the FCA.
X-ALT-DESC;FMTTYPE=text/html:FCA presents Breakfast with Inky Johnson on February 27\, 2020 at the Landers Center in Southaven.<br />\n<br />\nAll proceeds will go to support the FCA.&nbsp\;
LOCATION:Landers Center 4560 Venture Dr.
UID:e.512.15892
SEQUENCE:3
DTSTAMP:20260424T013909Z
URL:https://southavenchamber-mosaic-gzcms.preview.gochambermaster.com/events/details/fca-breakfast-with-inky-johnson-15892
END:VEVENT

END:VCALENDAR
