BEGIN:VCALENDAR
VERSION:2.0
PRODID:-//ChamberMaster//Event Calendar 2.0//EN
METHOD:PUBLISH
X-PUBLISHED-TTL:P3D
REFRESH-INTERVAL:P3D
CALSCALE:GREGORIAN
BEGIN:VEVENT
DTSTART:20230209T220000Z
DTEND:20230209T230000Z
X-MICROSOFT-CDO-ALLDAYEVENT:FALSE
SUMMARY:Extended Care in Retirement
DESCRIPTION:You may know the risk of needing long-term care...\n\nBut do you understand the consequences?\n\nTo learn more join us Thursday\, February 9th\, 2023 @ 4:00pm.  For more information contact 662-782-1491 to register for the free educational event. Live or virtual.
X-ALT-DESC;FMTTYPE=text/html:<p>You may know the risk of needing long-term care...</p>\n\n<p>But do you understand the consequences?</p>\n\n<p>To learn more join us Thursday\, February 9th\, 2023 @ 4:00pm.&nbsp\; For more information contact 662-782-1491 to register for the free educational event. Live or virtual.</p>\n
LOCATION:500 Stateline Rd. West\, Southaven\, MS 38671
UID:e.512.18264
SEQUENCE:3
DTSTAMP:20260420T210843Z
URL:https://southavenchamber-mosaic-gzcms.preview.gochambermaster.com/events/details/extended-care-in-retirement-18264
END:VEVENT

END:VCALENDAR
