BEGIN:VCALENDAR
VERSION:2.0
PRODID:-//ChamberMaster//Event Calendar 2.0//EN
METHOD:PUBLISH
X-PUBLISHED-TTL:P3D
REFRESH-INTERVAL:P3D
CALSCALE:GREGORIAN
BEGIN:VEVENT
DTSTART:20191005T130000Z
DTEND:20191005T170000Z
X-MICROSOFT-CDO-ALLDAYEVENT:FALSE
SUMMARY:DeSoto County Household Hazardous Waste Day
DESCRIPTION:DeSoto County Environmental Services is offering a safe way for residents to dispose items classified as Hazardous Household Waste.  The collection event is a community service funded by the Mississippi Department of Environmental Quality in cooperation with the DeSoto County Board of Supervisors.
X-ALT-DESC;FMTTYPE=text/html:DeSoto County Environmental Services is offering a safe way for residents to dispose items classified as Hazardous Household Waste.&nbsp\; The collection event is a community service funded by the Mississippi Department of Environmental Quality in cooperation with the DeSoto County Board of Supervisors.&nbsp\;
LOCATION:Landers Center - 4560 Venture Drive Venture Drive & Turman Drive (Southwest corner of parking lot)
UID:e.512.15635
SEQUENCE:3
DTSTAMP:20260424T123511Z
URL:https://southavenchamber-mosaic-gzcms.preview.gochambermaster.com/events/details/desoto-county-household-hazardous-waste-day-15635
END:VEVENT

END:VCALENDAR
