BEGIN:VCALENDAR
VERSION:2.0
PRODID:-//ChamberMaster//Event Calendar 2.0//EN
METHOD:PUBLISH
X-PUBLISHED-TTL:P3D
REFRESH-INTERVAL:P3D
CALSCALE:GREGORIAN
BEGIN:VEVENT
DTSTART:20200304T140000Z
DTEND:20200304T193000Z
X-MICROSOFT-CDO-ALLDAYEVENT:FALSE
SUMMARY:DeSoto Career and Technology Center Career Fair
DESCRIPTION:Registration Link: https://forms.gle/pbz6ZoJ8pmEgED3HA
X-ALT-DESC;FMTTYPE=text/html:<span style="color:black\;"><span style="font-family:times new roman\,serif\;"><span style="font-size:12.0pt\;">Registration Link:&nbsp\;<a href="https://forms.gle/pbz6ZoJ8pmEgED3HA" id="LPlnk444974">https://forms.gle/pbz6ZoJ8pmEgED3HA</a></span></span></span><br />\n<br />\n&nbsp\;
LOCATION:DeSoto Career and Technology Center West 1005 Kuykendall Ln. Horn Lake\, MS 38637
UID:e.512.15978
SEQUENCE:3
DTSTAMP:20260423T224817Z
URL:https://southavenchamber-mosaic-gzcms.preview.gochambermaster.com/events/details/desoto-career-and-technology-center-career-fair-15978
END:VEVENT

END:VCALENDAR
