BEGIN:VCALENDAR
VERSION:2.0
PRODID:-//ChamberMaster//Event Calendar 2.0//EN
METHOD:PUBLISH
X-PUBLISHED-TTL:P3D
REFRESH-INTERVAL:P3D
CALSCALE:GREGORIAN
BEGIN:VEVENT
DTSTART:20230920T160000Z
DTEND:20230920T180000Z
X-MICROSOFT-CDO-ALLDAYEVENT:FALSE
SUMMARY:Cybersecurity Imperatives in the Modern World
DESCRIPTION:Please join us for this very informative and relevant Lunch and Learn on protecting your business' data\, assets\, and all the details associated with Cybersecurity. \n\nMany do not think about cybersecurity and its importance until a disaster happens and it's too late. Please come have lunch while you learn the benefits of being proactive to an ever-growing number of threats that devastate businesses every day.
X-ALT-DESC;FMTTYPE=text/html:Please join us for this very informative and relevant Lunch and Learn on protecting your business&#39\; data\, assets\, and all the details associated with Cybersecurity.&nbsp\;<br />\nMany do not think about cybersecurity and its importance until a disaster happens and it&#39\;s too late. Please come have lunch while you learn the benefits of being proactive to an ever-growing number of threats that devastate businesses every day.&nbsp\;
LOCATION:Southaven Chamber of Commerce 500 Main Street Southaven\, MS 38671
UID:e.512.18827
SEQUENCE:3
DTSTAMP:20260419T123718Z
URL:https://southavenchamber-mosaic-gzcms.preview.gochambermaster.com/events/details/cybersecurity-imperatives-in-the-modern-world-18827
END:VEVENT

END:VCALENDAR
