BEGIN:VCALENDAR
VERSION:2.0
PRODID:-//ChamberMaster//Event Calendar 2.0//EN
METHOD:PUBLISH
X-PUBLISHED-TTL:P3D
REFRESH-INTERVAL:P3D
CALSCALE:GREGORIAN
BEGIN:VEVENT
DTSTART:20180323T130000Z
DTEND:20180323T150000Z
X-MICROSOFT-CDO-ALLDAYEVENT:FALSE
SUMMARY:CYBER Symposium - Prepare/Prevent/Mitigate/Restore - FREE Event!
DESCRIPTION:Please join the Travelers Institute\, SouthGroup Insurance\, The Southaven Chamber of Commerce and the Olive Branch Chamber of Commerce for CYBER: Prepare\, Prevent Mitigate\, Restore...an educational symposium helping businesses and organizations tackle evolving cyber threats.  As part of an international series\, thought leaders from the public and private sectors will share insights into the current threat landscape and strategies our organization can use to help prepare for and respond to a cyber incident.\n\n\n\nKeynote Address: Timothy S. Marsh\, Special Agent\, Counterintelligence/Cyber Program\, Private Sector Coordinator\, Memphis Field Office\, FBI
X-ALT-DESC;FMTTYPE=text/html:Please join the Travelers Institute\, SouthGroup Insurance\, The Southaven Chamber of Commerce and the Olive Branch Chamber of Commerce for CYBER: Prepare\, Prevent Mitigate\, Restore...an educational symposium helping businesses and organizations tackle evolving cyber threats.&nbsp\; <span style="color: rgb(70\, 73\, 77)\; font-family: Arial\, &quot\;Helvetica Neue&quot\;\, Helvetica\, sans-serif\; font-size: 13px\; background-color: rgb(255\, 255\, 255)\;">As part of an international series\, thought leaders from the public and private sectors will share insights into the current threat landscape and strategies our organization can use to help prepare for and respond to a cyber incident.</span><br />\n<br />\n<strong style="margin: 0px\; padding: 0px\; border: 0px\; outline: 0px\; font-size: 12px\; vertical-align: baseline\; background: rgb(255\, 255\, 255)\; color: rgb(70\, 73\, 77)\; font-family: Arial\, &quot\;Helvetica Neue&quot\;\, Helvetica\, sans-serif\;">Keynote Address</strong><span style="color: rgb(70\, 73\, 77)\; font-family: Arial\, &quot\;Helvetica Neue&quot\;\, Helvetica\, sans-serif\; font-size: 13px\; background-color: rgb(255\, 255\, 255)\;">:&nbsp\;</span><strong style="margin: 0px\; padding: 0px\; border: 0px\; outline: 0px\; font-size: 12px\; vertical-align: baseline\; background: rgb(255\, 255\, 255)\; color: rgb(70\, 73\, 77)\; font-family: Arial\, &quot\;Helvetica Neue&quot\;\, Helvetica\, sans-serif\;">Timothy S. Marsh</strong><span style="color: rgb(70\, 73\, 77)\; font-family: Arial\, &quot\;Helvetica Neue&quot\;\, Helvetica\, sans-serif\; font-size: 13px\; background-color: rgb(255\, 255\, 255)\;">\, Special Agent\, Counterintelligence/Cyber Program\, Private Sector Coordinator\, Memphis Field Office\, FBI</span>
LOCATION:Landers Center 4560 Venture Drive Southaven\, MS 38671
UID:e.512.6955
SEQUENCE:3
DTSTAMP:20260426T004833Z
URL:https://southavenchamber-mosaic-gzcms.preview.gochambermaster.com/events/details/cyber-symposium-prepare-prevent-mitigate-restore-free-event-6955
END:VEVENT

END:VCALENDAR
