BEGIN:VCALENDAR
VERSION:2.0
PRODID:-//ChamberMaster//Event Calendar 2.0//EN
METHOD:PUBLISH
X-PUBLISHED-TTL:P3D
REFRESH-INTERVAL:P3D
CALSCALE:GREGORIAN
BEGIN:VEVENT
DTSTART;VALUE=DATE:20180623
DTEND;VALUE=DATE:20180625
TRANSP:TRANSPARENT
X-MICROSOFT-CDO-ALLDAYEVENT:TRUE
SUMMARY:Customer Appreciation Weekend at FFO Home
DESCRIPTION:
X-ALT-DESC;FMTTYPE=text/html:
LOCATION:FFO Home 7258 Interstate Blvd Horn Lake MS 38637
UID:e.512.8353
SEQUENCE:3
DTSTAMP:20260425T193353Z
URL:https://southavenchamber-mosaic-gzcms.preview.gochambermaster.com/events/details/customer-appreciation-weekend-at-ffo-home-8353
END:VEVENT

END:VCALENDAR
