BEGIN:VCALENDAR
VERSION:2.0
PRODID:-//ChamberMaster//Event Calendar 2.0//EN
METHOD:PUBLISH
X-PUBLISHED-TTL:P3D
REFRESH-INTERVAL:P3D
CALSCALE:GREGORIAN
BEGIN:VEVENT
DTSTART:20190809T140000Z
DTEND:20190809T170000Z
X-MICROSOFT-CDO-ALLDAYEVENT:FALSE
SUMMARY:CPR & AED Training
DESCRIPTION:We are offering CPR & AED training at the Southaven Chamber office on August 9th\, 2019 at 9AM.\n\nGet Certification in CPR & AED in Just One Day!\n\n\n\nLearn and Practice Your Skill on How To Save Lives!\n\n\n\nCost is only $50... For more info\, please call (662) 292-6398 or email tony@midamericasafetyservices.com
X-ALT-DESC;FMTTYPE=text/html:We are offering CPR &amp\; AED training at the Southaven Chamber office on August 9th\, 2019 at 9AM.<br />\nGet Certification in CPR &amp\; AED in Just One Day!<br />\n<br />\nLearn and Practice Your Skill on How To Save Lives!<br />\n<br />\nCost is only $50... For more info\, please call (662) 292-6398 or email tony@midamericasafetyservices.com&nbsp\;
LOCATION:Southaven Chamber of Commerce 500 Main Street Southaven\, MS 38671
UID:e.512.12894
SEQUENCE:3
DTSTAMP:20260424T112841Z
URL:https://southavenchamber-mosaic-gzcms.preview.gochambermaster.com/events/details/cpr-aed-training-12894
END:VEVENT

END:VCALENDAR
