BEGIN:VCALENDAR
VERSION:2.0
PRODID:-//ChamberMaster//Event Calendar 2.0//EN
METHOD:PUBLISH
X-PUBLISHED-TTL:P3D
REFRESH-INTERVAL:P3D
CALSCALE:GREGORIAN
BEGIN:VEVENT
DTSTART:20201017T140000Z
DTEND:20201017T180000Z
X-MICROSOFT-CDO-ALLDAYEVENT:FALSE
SUMMARY:Cornhole Tournament
DESCRIPTION:
X-ALT-DESC;FMTTYPE=text/html:
LOCATION:Eudora Lions Den 9650 W. Commerce Hernando\, MS 38632
UID:e.512.16516
SEQUENCE:3
DTSTAMP:20260423T133608Z
URL:https://southavenchamber-mosaic-gzcms.preview.gochambermaster.com/events/details/cornhole-tournament-10-17-2020-16516
END:VEVENT

END:VCALENDAR
