BEGIN:VCALENDAR
VERSION:2.0
PRODID:-//ChamberMaster//Event Calendar 2.0//EN
METHOD:PUBLISH
X-PUBLISHED-TTL:P3D
REFRESH-INTERVAL:P3D
CALSCALE:GREGORIAN
BEGIN:VEVENT
DTSTART;VALUE=DATE:20230524
DTEND;VALUE=DATE:20230525
TRANSP:TRANSPARENT
X-MICROSOFT-CDO-ALLDAYEVENT:TRUE
SUMMARY:CONCERTS ARE BACK AT BANKPLUS AMPHITHEATER!
DESCRIPTION:SHOW ANNOUNCEMENT!\n\n \n\nDave Matthews Band is bringing their 2023 Tour to BankPlus Amphitheater on May 24th!\n\nMark your calendars  Tickets go on sale Friday\, February 17 at 10AM.\n\n \n\n Stay tuned for more exciting concert announcements to come in 2023!
X-ALT-DESC;FMTTYPE=text/html:<strong><span style="color:#555555"><span style="font-family:arial\,sans-serif"><span style="font-size:16.5pt">SHOW ANNOUNCEMENT!</span></span></span></strong><br />\n&nbsp\;<br />\n<span style="color:#555555"><span style="font-family:arial\,sans-serif"><span style="font-size:12.0pt">Dave Matthews Band is bringing their 2023 Tour to BankPlus Amphitheater on May 24th!</span></span></span><br />\n<span style="color:#555555"><span style="font-family:arial\,sans-serif"><span style="font-size:12.0pt">Mark your calendars&mdash\; Tickets go on sale Friday\, February 17 at 10AM.</span></span></span><br />\n&nbsp\;<br />\n&nbsp\;<strong><span style="color:#555555"><span style="font-family:arial\,sans-serif"><span style="font-size:10.5pt">Stay tuned for more exciting concert announcements to come in 2023!</span></span></span></strong><br />\n&nbsp\;
LOCATION:
UID:e.512.18259
SEQUENCE:3
DTSTAMP:20260420T052032Z
URL:https://southavenchamber-mosaic-gzcms.preview.gochambermaster.com/events/details/concerts-are-back-at-bankplus-amphitheater-18259
END:VEVENT

END:VCALENDAR
