BEGIN:VCALENDAR
VERSION:2.0
PRODID:-//ChamberMaster//Event Calendar 2.0//EN
METHOD:PUBLISH
X-PUBLISHED-TTL:P3D
REFRESH-INTERVAL:P3D
CALSCALE:GREGORIAN
BEGIN:VEVENT
DTSTART:20211104T150000Z
DTEND:20211104T190000Z
X-MICROSOFT-CDO-ALLDAYEVENT:FALSE
SUMMARY:Community Shred Day - 2021 (11/04)
DESCRIPTION:It's time to clean out your old documents! Drop by the Southaven Chamber of Commerce to see Iron Mountain. They will have a shredder truck in the parking lot - 50lb max per person.
X-ALT-DESC;FMTTYPE=text/html:It&#39\;s time to clean out your old documents! Drop by the Southaven Chamber of Commerce to see Iron Mountain. They will have a shredder truck in the parking lot - 50lb max per person.&nbsp\;
LOCATION:Southaven Chamber of Commerce 500 Main St Southaven\, MS 38671
UID:e.512.16227
SEQUENCE:3
DTSTAMP:20260422T052900Z
URL:https://southavenchamber-mosaic-gzcms.preview.gochambermaster.com/events/details/community-shred-day-2021-11-04-16227
END:VEVENT

END:VCALENDAR
