BEGIN:VCALENDAR
VERSION:2.0
PRODID:-//ChamberMaster//Event Calendar 2.0//EN
METHOD:PUBLISH
X-PUBLISHED-TTL:P3D
REFRESH-INTERVAL:P3D
CALSCALE:GREGORIAN
BEGIN:VEVENT
DTSTART:20200217T013000Z
DTEND:20200217T050000Z
X-MICROSOFT-CDO-ALLDAYEVENT:FALSE
SUMMARY:Comedy Laugh Fest
DESCRIPTION:TIME: 7:30pm\n\nSUPPORT: D.L. Hughley\, Earthquake\, Deon Cole\, Nephew Tommy\, & Cedric the Entertainer\n\nVENUE: Landers Center\n\nAGE: All Ages\n\nDOORS: 6:30pm\n\nTICKETS*: $127.00\, $101.00\, $77.00\, $61.00\, $51.00\n\nONSALE: Friday November 15\, 2019 at 10:00am\n\n \n\nPurchase tickets in person at the LANDERS Center Box Office\, online through Ticketmaster.com\, or through the Ticketmaster mobile app.\n\n \n\n*Pricing subject to change. Before you buy\, verify that your tickets are from an authorized seller. Tickets obtained from sources other than the Landers Center Box Office or Ticketmaster may be counterfeit or overpriced. Call 662-470-2131 if you have any questions or concerns.
X-ALT-DESC;FMTTYPE=text/html:<div>TIME: 7:30pm</div>\n\n<div>SUPPORT: D.L. Hughley\, Earthquake\, Deon Cole\, Nephew Tommy\, &amp\; Cedric the Entertainer</div>\n\n<div>VENUE: Landers Center</div>\n\n<div>AGE: All Ages</div>\n\n<div>DOORS: 6:30pm</div>\n\n<div>TICKETS*: $127.00\, $101.00\, $77.00\, $61.00\, $51.00</div>\n\n<div>ONSALE: Friday November 15\, 2019 at 10:00am</div>\n\n<div>&nbsp\;</div>\n\n<div>Purchase tickets in person at the LANDERS Center Box Office\, online through Ticketmaster.com\, or through the Ticketmaster mobile app.</div>\n\n<div>&nbsp\;</div>\n\n<div>*Pricing subject to change. Before you buy\, verify that your tickets are from an authorized seller. Tickets obtained from sources other than the Landers Center Box Office or Ticketmaster may be counterfeit or overpriced. Call 662-470-2131 if you have any questions or concerns.</div>\n
LOCATION:Landers Center 4560 Venture Drive Southaven\, MS 38671
UID:e.512.15839
SEQUENCE:3
DTSTAMP:20260424T013909Z
URL:https://southavenchamber-mosaic-gzcms.preview.gochambermaster.com/events/details/comedy-laugh-fest-15839
END:VEVENT

END:VCALENDAR
