BEGIN:VCALENDAR
VERSION:2.0
PRODID:-//ChamberMaster//Event Calendar 2.0//EN
METHOD:PUBLISH
X-PUBLISHED-TTL:P3D
REFRESH-INTERVAL:P3D
CALSCALE:GREGORIAN
BEGIN:VEVENT
DTSTART:20200731T130000Z
DTEND:20200731T134500Z
X-MICROSOFT-CDO-ALLDAYEVENT:FALSE
SUMMARY:Coffee with a Member - CANCELED
DESCRIPTION:This event has been canceled.\n\n\n\nJoin us for Coffee with a Member! Thank you to United Real Estate Mid-South for sponsoring this event. Please bring business cards and invite friends\, colleagues\, fellow business leaders\, and business owners to come experience a Southaven Chamber event. There will be door prizes! \n\n\n\nThank you to Coffee Central for being our sponsor for all Coffee with a Member events. Hope to see you there!
X-ALT-DESC;FMTTYPE=text/html:<span style="color: rgb(29\, 33\, 41)\; font-family: Helvetica\, Arial\, sans-serif\; font-size: 14px\; white-space: pre-wrap\;">This event has been canceled.<br />\n<br />\nJoin us for Coffee with a Member! Thank you to <strong>United Real Estate Mid-South</strong> for sponsoring this event. Please bring business cards and invite friends\, colleagues\, fellow business leaders\, and business owners to come experience a Southaven Chamber event. There will be door prizes! </span><br style="color: rgb(29\, 33\, 41)\; font-family: Helvetica\, Arial\, sans-serif\; font-size: 14px\; white-space: pre-wrap\;" />\n<br style="color: rgb(29\, 33\, 41)\; font-family: Helvetica\, Arial\, sans-serif\; font-size: 14px\; white-space: pre-wrap\;" />\n<span style="color: rgb(29\, 33\, 41)\; font-family: Helvetica\, Arial\, sans-serif\; font-size: 14px\; white-space: pre-wrap\;">Thank you to <strong>Coffee Central</strong> for being our sponsor for all Coffee with a Member events. Hope to see you there!</span>
LOCATION:Southaven Chamber 500 Main Street Southaven\, MS 38671
UID:e.512.15869
SEQUENCE:3
DTSTAMP:20260423T183044Z
URL:https://southavenchamber-mosaic-gzcms.preview.gochambermaster.com/events/details/coffee-with-a-member-canceled-15869
END:VEVENT

END:VCALENDAR
