BEGIN:VCALENDAR
VERSION:2.0
PRODID:-//ChamberMaster//Event Calendar 2.0//EN
METHOD:PUBLISH
X-PUBLISHED-TTL:P3D
REFRESH-INTERVAL:P3D
CALSCALE:GREGORIAN
BEGIN:VEVENT
DTSTART:20230825T130000Z
DTEND:20230825T134500Z
X-MICROSOFT-CDO-ALLDAYEVENT:FALSE
SUMMARY:Coffee With A Member - 2023 (8/25)
DESCRIPTION:Coffee with a Member\, 8AM - 8:45AM\, Turn Key Realty Group\, 720 Goodman Rd. E\, Southaven\, MS 38671: Join us for Coffee with a Member! Thank you to Hollye Granier with Turn Key Realty Group for sponsoring this event. Please bring business cards and invite friends\, colleagues\, fellow business leaders\, and business owners to come experience a Southaven Chamber event. There will be door prizes!
X-ALT-DESC;FMTTYPE=text/html:<p><span style="font-size:20px\;"><strong><span style="font-family:tahoma\;">Coffee with a Member\, 8AM - 8:45AM\, Turn Key Realty Group\, 720 Goodman Rd. E\, Southaven\, MS 38671:</span></strong></span> <span style="font-size:20px\;"><span style="font-family:tahoma\;">Join us for Coffee with a Member! Thank you to Hollye Granier with Turn Key Realty Group for sponsoring this event. Please bring business cards and invite friends\, colleagues\, fellow business leaders\, and business owners to come experience a Southaven Chamber event. There will be door prizes!</span></span></p>\n
LOCATION:Turn Key Realty Group 720 Goodman Rd. E Southaven\, MS 38671
UID:e.512.18221
SEQUENCE:3
DTSTAMP:20260420T015950Z
URL:https://southavenchamber-mosaic-gzcms.preview.gochambermaster.com/events/details/coffee-with-a-member-2023-8-25-18221
END:VEVENT

END:VCALENDAR
