BEGIN:VCALENDAR
VERSION:2.0
PRODID:-//ChamberMaster//Event Calendar 2.0//EN
METHOD:PUBLISH
X-PUBLISHED-TTL:P3D
REFRESH-INTERVAL:P3D
CALSCALE:GREGORIAN
BEGIN:VEVENT
DTSTART:20230428T130000Z
DTEND:20230428T134500Z
X-MICROSOFT-CDO-ALLDAYEVENT:FALSE
SUMMARY:Coffee With A Member - 2023 (4/28)
DESCRIPTION:Coffee with a Member\, 8AM - 8:45AM\, Coffee Central Southaven\, 5627 Getwell Rd.\, Ste A7\, Southaven\, MS 38672: Join us for coffee with a Member at Coffee Central! Thank you to Matthew Kelso with Edward Jones Investments for sponsoring this event. Please bring business cards and invite friends\, colleagues\, fellow business leaders\, and business owners to come experience a Southaven Chamber event. There will be door prizes!
X-ALT-DESC;FMTTYPE=text/html:<strong><span style="font-family:tahoma\,sans-serif\;"><span style="font-size:16.0pt\;">Coffee with a Member\, 8AM - 8:45AM\, Coffee Central Southaven\, </span></span></strong><b><span style="font-size: 16pt\; font-family: Tahoma\, sans-serif\; background-image: initial\; background-position: initial\; background-size: initial\; background-repeat: initial\; background-attachment: initial\; background-origin: initial\; background-clip: initial\;">5627 Getwell Rd.\, Ste A7\, Southaven\, MS 38672</span></b><strong><span style="font-family:tahoma\,sans-serif\;"><span style="font-size:16.0pt\;">:&nbsp\;</span></span></strong><span style="font-family:tahoma\,sans-serif\;"><span style="font-size:16.0pt\;"><span style="font-variant-ligatures:normal\;font-variant-caps:normal\;orphans:2\;text-align:start\;widows:2\;-webkit-text-stroke-width:0px\;text-decoration-thickness:initial\;text-decoration-style:initial\;word-spacing:0px\;"><span style="font-variant-ligatures:normal\;font-variant-caps:normal\;orphans:2\;text-align:start\;widows:2\;-webkit-text-stroke-width:0px\;text-decoration-thickness:initial\;text-decoration-style:initial\;word-spacing:0px\;">Join us for coffee with a Member at Coffee Central! Thank you to Matthew Kelso with Edward Jones Investments&nbsp\;for sponsoring this event. Please bring business cards and invite friends\, colleagues\, fellow business leaders\, and business owners to come experience a Southaven Chamber event. There will be door prizes!</span></span></span></span>
LOCATION:Coffee Central Southaven 5627 Getwell Rd.\, Ste A7 Southaven\, MS 38672
UID:e.512.18187
SEQUENCE:3
DTSTAMP:20260420T034555Z
URL:https://southavenchamber-mosaic-gzcms.preview.gochambermaster.com/events/details/coffee-with-a-member-2023-4-28-18187
END:VEVENT

END:VCALENDAR
