BEGIN:VCALENDAR
VERSION:2.0
PRODID:-//ChamberMaster//Event Calendar 2.0//EN
METHOD:PUBLISH
X-PUBLISHED-TTL:P3D
REFRESH-INTERVAL:P3D
CALSCALE:GREGORIAN
BEGIN:VEVENT
DTSTART;VALUE=DATE:20220729
DTEND;VALUE=DATE:20220730
TRANSP:TRANSPARENT
X-MICROSOFT-CDO-ALLDAYEVENT:TRUE
SUMMARY:Coffee with a Member
DESCRIPTION:Coffee with a Member\, 8AM\, Southaven Chamber of Commerce\, 500 Main St.\, Southaven\, MS 38671: Join us for Coffee with a Member! Thank you to On The Top Security for sponsoring this event. Please bring business cards and invite friends\, colleagues\, fellow business leaders\, and business owners to come experience a Southaven Chamber event. There will be door prizes!
X-ALT-DESC;FMTTYPE=text/html:<strong><span style="font-family: tahoma\, sans-serif\;"><span style="font-size: 16pt\;">Coffee with a Member\, 8AM\, Southaven Chamber of Commerce\, 500 Main St.\, Southaven\, MS 38671:&nbsp\;</span></span></strong><span style="font-family: tahoma\, sans-serif\;"><span style="font-size: 16pt\;">Join us for Coffee with a Member! Thank you to On The Top Security for sponsoring this event. Please bring business cards and invite friends\, colleagues\, fellow business leaders\, and business owners to come experience a Southaven Chamber event. There will be door prizes!</span></span>
LOCATION:Southaven Chamber of Commerce 500 Main St. Southaven\, MS 38671
UID:e.512.17292
SEQUENCE:3
DTSTAMP:20260421T014234Z
URL:https://southavenchamber-mosaic-gzcms.preview.gochambermaster.com/events/details/coffee-with-a-member-17292
END:VEVENT

END:VCALENDAR
