BEGIN:VCALENDAR
VERSION:2.0
PRODID:-//ChamberMaster//Event Calendar 2.0//EN
METHOD:PUBLISH
X-PUBLISHED-TTL:P3D
REFRESH-INTERVAL:P3D
CALSCALE:GREGORIAN
BEGIN:VEVENT
DTSTART:20220513T130000Z
DTEND:20220513T134500Z
X-MICROSOFT-CDO-ALLDAYEVENT:FALSE
SUMMARY:Coffee with a Member
DESCRIPTION:Coffee with a Member\, 8AM\, Brown Missionary Baptist Church (South Campus Welcome Center)\, 7200 Swinnea Rd.\, Southaven\, MS 38671: Join us for Coffee with a Member! Thank you to Brown Missionary Baptist Church for sponsoring this event. Please bring business cards and invite friends\, colleagues\, fellow business leaders\, and business owners to come experience a Southaven Chamber event. There will be door prizes!
X-ALT-DESC;FMTTYPE=text/html:<strong><span style="font-family:tahoma\,sans-serif\;"><span style="font-size:16.0pt\;">Coffee with a Member\, 8AM\, Brown Missionary Baptist Church <span style="background:yellow\;">(South Campus Welcome Center)\, 7200 Swinnea Rd.</span>\, Southaven\, MS 38671:&nbsp\;</span></span></strong><span style="font-family:tahoma\,sans-serif\;"><span style="font-size:16.0pt\;">Join us for Coffee with a Member! Thank you to Brown Missionary Baptist Church for sponsoring this event. Please bring business cards and invite friends\, colleagues\, fellow business leaders\, and business owners to come experience a Southaven Chamber event. There will be door prizes!</span></span>
LOCATION:Brown Missionary Baptist Church - South Campus Welcome Center 7200 Swinnea Rd. Southaven\, MS 38671
UID:e.512.17210
SEQUENCE:3
DTSTAMP:20260421T122239Z
URL:https://southavenchamber-mosaic-gzcms.preview.gochambermaster.com/events/details/coffee-with-a-member-17210
END:VEVENT

END:VCALENDAR
