BEGIN:VCALENDAR
VERSION:2.0
PRODID:-//ChamberMaster//Event Calendar 2.0//EN
METHOD:PUBLISH
X-PUBLISHED-TTL:P3D
REFRESH-INTERVAL:P3D
CALSCALE:GREGORIAN
BEGIN:VEVENT
DTSTART:20210514T130000Z
DTEND:20210514T134500Z
X-MICROSOFT-CDO-ALLDAYEVENT:FALSE
SUMMARY:Coffee with a Member
DESCRIPTION:Join us for Coffee with a Member! Thank you to Vertava Health for sponsoring this event. Please bring business cards and invite friends\, colleagues\, fellow business leaders\, and business owners to come experience a Southaven Chamber event. There will be door prizes!
X-ALT-DESC;FMTTYPE=text/html:<span style="color: rgb(29\, 33\, 41)\; font-family: Helvetica\, Arial\, sans-serif\; font-size: 14px\; white-space: pre-wrap\;">Join us for Coffee with a Member! Thank you to</span><strong style="color: rgb(29\, 33\, 41)\; font-family: Helvetica\, Arial\, sans-serif\; font-size: 14px\; white-space: pre-wrap\;"> Vertava Health</strong><span style="color: rgb(29\, 33\, 41)\; font-family: Helvetica\, Arial\, sans-serif\; font-size: 14px\; white-space: pre-wrap\;"> for sponsoring this event. Please bring business cards and invite friends\, colleagues\, fellow business leaders\, and business owners to come experience a Southaven Chamber event. There will be door prizes! </span><br />\n<br />\n&nbsp\;
LOCATION:Vertava Health 5740 Getwell Road\, Building 10\, Suite D Southaven\, MS
UID:e.512.16197
SEQUENCE:3
DTSTAMP:20260422T201840Z
URL:https://southavenchamber-mosaic-gzcms.preview.gochambermaster.com/events/details/coffee-with-a-member-16197
END:VEVENT

END:VCALENDAR
