BEGIN:VCALENDAR
VERSION:2.0
PRODID:-//ChamberMaster//Event Calendar 2.0//EN
METHOD:PUBLISH
X-PUBLISHED-TTL:P3D
REFRESH-INTERVAL:P3D
CALSCALE:GREGORIAN
BEGIN:VEVENT
DTSTART:20181117T150000Z
DTEND:20181117T220000Z
X-MICROSOFT-CDO-ALLDAYEVENT:FALSE
SUMMARY:Christmas Open House Public
DESCRIPTION:Christmas Open House\n\nBelle Ross Spa and Salon\n\n5960 Getwell Road Ste 101\n\nSouthaven\, Ms  38672\n\nNovember 17\, 2018\n\n9:00 until 4:00\n\n\n\n20% off Gift Cards\n\n20% off Products
X-ALT-DESC;FMTTYPE=text/html:<h4 style="text-align: center\;"><var><span style="font-family:tahoma"><span style="font-size:28px">Christmas Open House</span></span></var></h4>\n\n<div style="text-align: center\;"><span style="font-size:36px"><span style="font-family:times new roman"><strong>Belle Ross Spa and Salon</strong><br />\n5960 Getwell Road Ste 101<br />\nSouthaven\, Ms&nbsp\; 38672<br />\nNovember 17\, 2018<br />\n9:00 until 4:00<br />\n<br />\n20% off Gift Cards<br />\n20% off Products</span></span></div>\n
LOCATION:5960 Getwell road Ste 101 Southaven\, MS 38672
UID:e.512.11565
SEQUENCE:3
DTSTAMP:20260425T035412Z
URL:https://southavenchamber-mosaic-gzcms.preview.gochambermaster.com/events/details/christmas-open-house-public-11565
END:VEVENT

END:VCALENDAR
