BEGIN:VCALENDAR
VERSION:2.0
PRODID:-//ChamberMaster//Event Calendar 2.0//EN
METHOD:PUBLISH
X-PUBLISHED-TTL:P3D
REFRESH-INTERVAL:P3D
CALSCALE:GREGORIAN
BEGIN:VEVENT
DTSTART:20181119T130000Z
DTEND:20181120T020000Z
X-MICROSOFT-CDO-ALLDAYEVENT:FALSE
SUMMARY:Chick-fil-A Southaven 20 Year Anniversary
DESCRIPTION:Chick-fil-A Southaven will be celebrating our 20 years of business in Southaven MS.  Join for "back to 1998" pricing specials\, entertainment\, cake\, etc.... We invite all chamber members at 3pm for a celebratory picture and dessert.  Look for more details on our Facebook and Website pages.
X-ALT-DESC;FMTTYPE=text/html:Chick-fil-A Southaven will be celebrating our 20 years of business in Southaven MS.&nbsp\; Join for &quot\;back to 1998&quot\; pricing specials\, entertainment\, cake\, etc.... We invite all chamber members at 3pm for a celebratory picture and dessert.&nbsp\; Look for more details on our Facebook and Website pages.&nbsp\;&nbsp\;
LOCATION:235 Goodman Road West\, Southaven\, MS 38671
UID:e.512.11549
SEQUENCE:3
DTSTAMP:20260425T024016Z
URL:https://southavenchamber-mosaic-gzcms.preview.gochambermaster.com/events/details/chick-fil-a-southaven-20-year-anniversary-11549
END:VEVENT

END:VCALENDAR
