BEGIN:VCALENDAR
VERSION:2.0
PRODID:-//ChamberMaster//Event Calendar 2.0//EN
METHOD:PUBLISH
X-PUBLISHED-TTL:P3D
REFRESH-INTERVAL:P3D
CALSCALE:GREGORIAN
BEGIN:VEVENT
DTSTART:20220913T160000Z
DTEND:20220913T180000Z
X-MICROSOFT-CDO-ALLDAYEVENT:FALSE
SUMMARY:Career Readiness Workshop
DESCRIPTION:ACTS Career Center cordially invites your participation in the Career Readiness Workshop scheduled for Tuesday\, Sept. 13\, 2022 at Brown Missionary Baptist Church - Main Campus.\n\n\n\nACTS Career Center will be joined by guest speaker\, Lela Chalmers Human Resource Manager and Leader as they discuss the topics of:\n\n	Crafting the Perfect Resume\n	Job Fair Readiness\n\n\n\nWe look forward to your participation and continuing serving as an integral partner with your company.\n\n\n\nTo register and for more information contact The ACTS Career Center at actsregistration@gmail.com
X-ALT-DESC;FMTTYPE=text/html:ACTS Career Center cordially invites your participation in the&nbsp\;Career Readiness Workshop scheduled for Tuesday\, Sept. 13\, 2022 at Brown Missionary Baptist Church - Main Campus.<br />\n<br />\nACTS Career Center will be joined by guest speaker\, Lela Chalmers Human Resource Manager and Leader as they discuss the topics of:\n<ul>\n	<li>Crafting the Perfect Resume</li>\n	<li>Job Fair Readiness</li>\n</ul>\n<br />\nWe look forward to your participation and continuing serving as an integral partner with your company.<br />\n<br />\nTo register and for more information contact The ACTS Career Center at actsregistration@gmail.com&nbsp\;&nbsp\;
LOCATION:Brown Missionary Baptist Church - Main Campus 880 Stateline Rd. E. Bldg #3 Southaven\, MS 38671
UID:e.512.17398
SEQUENCE:3
DTSTAMP:20260421T001100Z
URL:https://southavenchamber-mosaic-gzcms.preview.gochambermaster.com/events/details/career-readiness-workshop-17398
END:VEVENT

END:VCALENDAR
