BEGIN:VCALENDAR
VERSION:2.0
PRODID:-//ChamberMaster//Event Calendar 2.0//EN
METHOD:PUBLISH
X-PUBLISHED-TTL:P3D
REFRESH-INTERVAL:P3D
CALSCALE:GREGORIAN
BEGIN:VEVENT
DTSTART:20220621T150000Z
DTEND:20220621T160000Z
X-MICROSOFT-CDO-ALLDAYEVENT:FALSE
SUMMARY:Butterflies - presented by Desoto County Master Gardener Reba Wright
DESCRIPTION:Learn about butterflies from a Master Gardener.  Part of the Desoto County Master Gardener Information Series.
X-ALT-DESC;FMTTYPE=text/html:Learn about butterflies from a Master Gardener.&nbsp\; Part of the Desoto County Master Gardener Information Series.
LOCATION:M. R. Davis Public Library 8554 Northwest Drive Southaven MS 38671
UID:e.512.17288
SEQUENCE:3
DTSTAMP:20260421T130352Z
URL:https://southavenchamber-mosaic-gzcms.preview.gochambermaster.com/events/details/butterflies-presented-by-desoto-county-master-gardener-reba-wright-17288
END:VEVENT

END:VCALENDAR
