BEGIN:VCALENDAR
VERSION:2.0
PRODID:-//ChamberMaster//Event Calendar 2.0//EN
METHOD:PUBLISH
X-PUBLISHED-TTL:P3D
REFRESH-INTERVAL:P3D
CALSCALE:GREGORIAN
BEGIN:VEVENT
DTSTART:20190306T140000Z
DTEND:20190307T020000Z
X-MICROSOFT-CDO-ALLDAYEVENT:FALSE
SUMMARY:BUCK'S BARGAIN CENTER SPRING KICKOFF EVENTS
DESCRIPTION:BUCK'S Bargain Center is gearing up for one of our biggest blowout sales of the year!\n\n\n\nSave BIG BUCKS on Hardware & Building Materials - TODAY ONLY!
X-ALT-DESC;FMTTYPE=text/html:BUCK&#39\;S Bargain Center is gearing up for one of our biggest blowout sales of the year!<br />\n<br />\nSave BIG BUCKS on Hardware &amp\; Building Materials - TODAY ONLY!&nbsp\;
LOCATION:BUCK'S Bargain Center 550 Stateline Rd Southaven\, MS 38671
UID:e.512.12318
SEQUENCE:3
DTSTAMP:20260424T212711Z
URL:https://southavenchamber-mosaic-gzcms.preview.gochambermaster.com/events/details/buck-s-bargain-center-spring-kickoff-events-03-06-2019-12318
END:VEVENT

END:VCALENDAR
