BEGIN:VCALENDAR
VERSION:2.0
PRODID:-//ChamberMaster//Event Calendar 2.0//EN
METHOD:PUBLISH
X-PUBLISHED-TTL:P3D
REFRESH-INTERVAL:P3D
CALSCALE:GREGORIAN
BEGIN:VEVENT
DTSTART:20190209T170000Z
DTEND:20190209T190000Z
X-MICROSOFT-CDO-ALLDAYEVENT:FALSE
SUMMARY:Bridal Open House at Cedar Hill Farm
DESCRIPTION:Open House for the Bride to Be.  Cedar Hill Farm also hosts Weddings * Rehearsal Dinners * Social Events * Corporate Events
X-ALT-DESC;FMTTYPE=text/html:Open House for the Bride to Be.&nbsp\; Cedar Hill Farm also hosts Weddings * Rehearsal Dinners * Social Events * Corporate Events
LOCATION:008 Love Road - Hernando MS 38632
UID:e.512.12271
SEQUENCE:3
DTSTAMP:20260424T224238Z
URL:https://southavenchamber-mosaic-gzcms.preview.gochambermaster.com/events/details/bridal-open-house-at-cedar-hill-farm-12271
END:VEVENT

END:VCALENDAR
