BEGIN:VCALENDAR
VERSION:2.0
PRODID:-//ChamberMaster//Event Calendar 2.0//EN
METHOD:PUBLISH
X-PUBLISHED-TTL:P3D
REFRESH-INTERVAL:P3D
CALSCALE:GREGORIAN
BEGIN:VEVENT
DTSTART:20200611T153000Z
DTEND:20200611T190000Z
X-MICROSOFT-CDO-ALLDAYEVENT:FALSE
SUMMARY:Blood Drive with Vitalant & Southaven Chamber
DESCRIPTION:Join Vitalant and the Southaven Chamber of Commerce for a Blood Drive Thursday\, June 11th from 10:30am - 2:00pm. \n\n\n\nHere are extra precautions to keep the donors safe during this time:\n\n	All donors must wear masks in order to donate\, and must bring his or her own.\n	Social distancing will be enforced.\n	All donor pledges will have his or her temperature taken before entering the donation area.\n	A donor pledge is deferred from donating if he or she has traveled outside of United States' territory within the last six months.\n\nREGISTER HERE: https://clublifeblood.us/index.cfm?group=op&expand=930825&zc=38671
X-ALT-DESC;FMTTYPE=text/html:Join Vitalant and the Southaven Chamber of Commerce for a Blood Drive Thursday\, June 11th from 10:30am - 2:00pm.&nbsp\;<br />\n<br />\n<span style="font-size:14px\;"><strong>Here are extra precautions to keep the donors safe during this time:</strong></span>\n<ul>\n	<li><span style="font-size:14px\;">All donors must wear masks in order to donate\, and must bring his or her own.</span></li>\n	<li><span style="font-size:14px\;">Social distancing will be&nbsp\;enforced.</span></li>\n	<li><span style="font-size:14px\;">All donor pledges will have his or her temperature taken before entering the donation area.</span></li>\n	<li><span style="font-size:14px\;">A donor pledge is deferred from donating if he or she has traveled outside of United States&rsquo\; territory within the last six months.</span></li>\n</ul>\nREGISTER HERE:&nbsp\;<a href="https://clublifeblood.us/index.cfm?group=op&amp\;expand=930825&amp\;zc=38671">https://clublifeblood.us/index.cfm?group=op&amp\;expand=930825&amp\;zc=38671</a>
LOCATION:Southaven Chamber of Commerce parking lot 500 Main Street Southaven\, MS 38671
UID:e.512.16122
SEQUENCE:3
DTSTAMP:20260423T183041Z
URL:https://southavenchamber-mosaic-gzcms.preview.gochambermaster.com/events/details/blood-drive-with-vitalant-southaven-chamber-16122
END:VEVENT

END:VCALENDAR
