BEGIN:VCALENDAR
VERSION:2.0
PRODID:-//ChamberMaster//Event Calendar 2.0//EN
METHOD:PUBLISH
X-PUBLISHED-TTL:P3D
REFRESH-INTERVAL:P3D
CALSCALE:GREGORIAN
BEGIN:VEVENT
DTSTART:20230615T150000Z
DTEND:20230615T180000Z
X-MICROSOFT-CDO-ALLDAYEVENT:FALSE
SUMMARY:Blood Drive with Vitalant
DESCRIPTION:Vitalant Blood Drive\, 10AM - 1:30PM\, Southaven Chamber of Commerce\, 500 Main Street\, Southaven\, MS 38671: We are excited to host a blood drive through Vitalant! They will have their bloodmobile here in our parking lot to donate blood. Please donate blood if you are able to. CLICK HERE TO SCHEDULE YOUR TIME!!
X-ALT-DESC;FMTTYPE=text/html:<strong><span style="color:#333333\;"><span style="font-family:tahoma\,sans-serif\;"><span style="font-size:16.0pt\;">Vitalant Blood Drive\, 10AM - 1:30PM\, Southaven Chamber of Commerce\, 500 Main Street\, Southaven\, MS 38671:&nbsp\;</span></span></span></strong><span style="color:#333333\;"><span style="font-family:tahoma\,sans-serif\;"><span style="font-size:16.0pt\;">We are excited to host a blood drive through Vitalant! They will have their bloodmobile here in our parking lot to donate blood. Please donate blood if you are able to.&nbsp\;</span></span></span><span style="font-size: 16pt\; font-family: Tahoma\, sans-serif\;"><a href="https://donors.vitalant.org/dwp/portal/dwa/appointment/guest/phl/timeSlotsExtr?token=rR3Ysynx2k%2FbyRcauthzWBXA9tTlV3uCJP%2F1Nk45H8Q%3D">CLICK HERE TO SCHEDULE YOUR TIME!!</a></span>
LOCATION:Southaven Chamber Parking Lot 500 Main Street Southaven\, MS 38671
UID:e.512.18206
SEQUENCE:3
DTSTAMP:20260420T020847Z
URL:https://southavenchamber-mosaic-gzcms.preview.gochambermaster.com/events/details/blood-drive-with-vitalant-18206
END:VEVENT

END:VCALENDAR
