BEGIN:VCALENDAR
VERSION:2.0
PRODID:-//ChamberMaster//Event Calendar 2.0//EN
METHOD:PUBLISH
X-PUBLISHED-TTL:P3D
REFRESH-INTERVAL:P3D
CALSCALE:GREGORIAN
BEGIN:VEVENT
DTSTART:20191213T170000Z
DTEND:20191213T200000Z
X-MICROSOFT-CDO-ALLDAYEVENT:FALSE
SUMMARY:Blood Drive with Southaven Chamber
DESCRIPTION:Follow this link to sign up for the blood drive: https://clublifeblood.us/index.cfm?group=op&expand=888608&zc=38671\n\n\n\nFor contact for additional information or assistance\, please contact Matthew Montgomery\, matthewM@lifeblood.org.
X-ALT-DESC;FMTTYPE=text/html:Follow this link to sign up for the blood drive:&nbsp\;<span style="font-family:calibri\,sans-serif\;"><span style="font-size:11.0pt\;"><a href="https://clublifeblood.us/index.cfm?group=op&amp\;expand=888608&amp\;zc=38671">https://clublifeblood.us/index.cfm?group=op&amp\;expand=888608&amp\;zc=38671</a><br />\n<br />\n<span style="font-size:14px\;"><span style="font-family:arial\;">For contact&nbsp\;</span></span></span></span><span style="font-size:14px\;"><span style="font-family:arial\;">for additional information or assistance\, please contact Matthew Montgomery\, <a href="mailto:matthewM@lifeblood.org">matthewM@lifeblood.org</a>.</span></span>
LOCATION:Southaven Chamber of Commerce 500 Main Street
UID:e.512.12484
SEQUENCE:3
DTSTAMP:20260424T043851Z
URL:https://southavenchamber-mosaic-gzcms.preview.gochambermaster.com/events/details/blood-drive-with-southaven-chamber-12484
END:VEVENT

END:VCALENDAR
