BEGIN:VCALENDAR
VERSION:2.0
PRODID:-//ChamberMaster//Event Calendar 2.0//EN
METHOD:PUBLISH
X-PUBLISHED-TTL:P3D
REFRESH-INTERVAL:P3D
CALSCALE:GREGORIAN
BEGIN:VEVENT
DTSTART:20201208T220000Z
DTEND:20201209T010000Z
X-MICROSOFT-CDO-ALLDAYEVENT:FALSE
SUMMARY:Blood Drive at DAC
DESCRIPTION:Sign up HERE!
X-ALT-DESC;FMTTYPE=text/html:<span style="font-size:18px\;"><strong>Sign up <a href="https://clublifeblood.us/index.cfm?group=op&amp\;expand=957719&amp\;zc=38672&amp\;oti=1">HERE</a>!</strong></span>
LOCATION:Desoto Athletic Club Parking Lot 3146 Goodman Road Southaven\, MS 38672
UID:e.512.16561
SEQUENCE:3
DTSTAMP:20260423T120612Z
URL:https://southavenchamber-mosaic-gzcms.preview.gochambermaster.com/events/details/blood-drive-at-dac-16561
END:VEVENT

END:VCALENDAR
