BEGIN:VCALENDAR
VERSION:2.0
PRODID:-//ChamberMaster//Event Calendar 2.0//EN
METHOD:PUBLISH
X-PUBLISHED-TTL:P3D
REFRESH-INTERVAL:P3D
CALSCALE:GREGORIAN
BEGIN:VEVENT
DTSTART:20180409T223000Z
DTEND:20180410T010000Z
X-MICROSOFT-CDO-ALLDAYEVENT:FALSE
SUMMARY:Bingo Night for Benevolence
DESCRIPTION:Bingo Night at NWMS REALTORS\n\nBenefiting the NWMAR Benevolent Fund\n\n$25 Entry includes games\, snack and drinks  \n\n*additional playing cards available for purchase\n\nMonday   April 9th\n\n5:30 p.m. Doors Open\n\n6 p.m. Games Begin\n\n\n\nRegister today! www.nwmar.net/events\n\n\n\nTons of fun for a good cause!\n\n \nBENEVOLENT FUND\n\nIn 2014\, NWMAR created the NWMAR Benevolent Fund to assist members during hardships. The fund is available to members and those associated with NWMAR in their time of need such as health issues\, natural disaster or other hardships. Members apply for assistance and receive aid from the fund. NWMAR is one of 15 other associations in the country that offer this assistance to their members.
X-ALT-DESC;FMTTYPE=text/html:<span style="font-size:18px"><span style="color:#00B0F0"><span style="font-family:trebuchet ms\,sans-serif">Bingo Night at NWMS REALTORS</span></span><br />\n<span style="color:#EE82EE"><span style="font-family:trebuchet ms\,sans-serif">Benefiting the NWMAR Benevolent Fund</span><br />\n<span style="font-family:trebuchet ms\,sans-serif">$25 Entry includes games\,&nbsp\;snack and drinks&nbsp\; </span><br />\n<span style="font-size:14px"><span style="font-family:trebuchet ms\,sans-serif">*additional playing cards available for purchase</span></span></span><br />\n<span style="color:#FF0066"><span style="font-family:narkisim\,sans-serif">Monday &ndash\; April 9<sup>th</sup></span></span><br />\n<span style="color:#FF0066"><span style="font-family:narkisim\,sans-serif">5:30 p.m. Doors Open</span></span><br />\n<span style="color:#FF0066"><span style="font-family:narkisim\,sans-serif">6 p.m. Games Begin</span></span><br />\n<br />\n<strong><span style="color:#00B050"><span style="font-family:narkisim\,sans-serif">Register today! </span></span></strong><strong><span style="color:#00B050"><span style="font-family:narkisim\,sans-serif"><a href="http://www.nwmar.net/events">www.nwmar.net/events</a><br />\n<br />\nTons of fun for a good cause!</span></span></strong></span><br />\n&nbsp\;\n<h2>BENEVOLENT FUND</h2>\n\n<p>In 2014\, NWMAR created the NWMAR Benevolent Fund to assist members during hardships. The fund is available to members and those associated with NWMAR in their time of need such as health issues\, natural disaster or other hardships. Members apply for assistance and receive aid from the fund. NWMAR is one of 15 other associations in the country that offer this assistance to their members.</p>\n<br />\n&nbsp\;<br />\n<br />\n&nbsp\;<br />\n<br />\n&nbsp\;
LOCATION:NWMS Association of REALTORS 2795 Highway 51 Nesbit\, MS 38651 Corner of Starlanding and Hwy 51
UID:e.512.7250
SEQUENCE:3
DTSTAMP:20260425T220950Z
URL:https://southavenchamber-mosaic-gzcms.preview.gochambermaster.com/events/details/bingo-night-for-benevolence-7250
END:VEVENT

END:VCALENDAR
