BEGIN:VCALENDAR
VERSION:2.0
PRODID:-//ChamberMaster//Event Calendar 2.0//EN
METHOD:PUBLISH
X-PUBLISHED-TTL:P3D
REFRESH-INTERVAL:P3D
CALSCALE:GREGORIAN
BEGIN:VEVENT
DTSTART:20190430T220000Z
DTEND:20190501T000000Z
X-MICROSOFT-CDO-ALLDAYEVENT:FALSE
SUMMARY:BecomeYou
DESCRIPTION:It begins with connections and this is your opportunity to connect with the Bethel University team\, current students\, and alumni members. \n\n\n\nJoin Us\n\nApril 30\, 2019 5pm-7pm\n\nTower Center Restaurant\n\n5100 Poplar Ave\, Suite 3300-Memphis\, TN \n\n\n\nTo RSVP contact:\n\nKimberly Nichols\n\n901-305-3414\n\nnicholsk@bethelu.edu
X-ALT-DESC;FMTTYPE=text/html:It begins with connections and this is your opportunity to connect with the Bethel University team\, current students\, and alumni members.&nbsp\;<br />\n<br />\nJoin Us<br />\nApril 30\, 2019 5pm-7pm<br />\nTower Center Restaurant<br />\n5100 Poplar Ave\, Suite 3300-Memphis\, TN&nbsp\;<br />\n<br />\nTo RSVP contact:<br />\nKimberly Nichols<br />\n901-305-3414<br />\nnicholsk@bethelu.edu
LOCATION:Tower Center Restaurant 5100 Poplar Ave. Suite 3300 Memphis\, TN
UID:e.512.12424
SEQUENCE:3
DTSTAMP:20260424T200826Z
URL:https://southavenchamber-mosaic-gzcms.preview.gochambermaster.com/events/details/becomeyou-12424
END:VEVENT

END:VCALENDAR
