BEGIN:VCALENDAR
VERSION:2.0
PRODID:-//ChamberMaster//Event Calendar 2.0//EN
METHOD:PUBLISH
X-PUBLISHED-TTL:P3D
REFRESH-INTERVAL:P3D
CALSCALE:GREGORIAN
BEGIN:VEVENT
DTSTART:20230506T150000Z
DTEND:20230506T180000Z
X-MICROSOFT-CDO-ALLDAYEVENT:FALSE
SUMMARY:Baptist Memorial Hospital - DeSoto Baby Fair
DESCRIPTION:Free gifts and giveaways from Baptist DeSoto and local vendors\, enter to win a grand-prize and receive all the expert help you need to make sure your baby has the best start.\n\n\n\n? Breastfeeding education\n\n? Car seat and seat belt safety\n\n? Obstetricians and pediatricians\n\n? Childbirth experts\n\n? Healthy pregnancy tips\n\n? Infant CPR information\n\n? Vendor displays\n\n? Photo booth\n\n? Grand-prize giveaway\n\n? And more!\n\n\n\nFor more information\, please call 662-772-4164.
X-ALT-DESC;FMTTYPE=text/html:Free gifts and giveaways from Baptist DeSoto and local vendors\, enter to win a grand-prize and receive all the expert help you need to make sure your baby has the best start.<br />\n<br />\n? Breastfeeding education<br />\n? Car seat and seat belt safety<br />\n? Obstetricians and pediatricians<br />\n? Childbirth experts<br />\n? Healthy pregnancy tips<br />\n? Infant CPR information<br />\n? Vendor displays<br />\n? Photo booth<br />\n? Grand-prize giveaway<br />\n? And more!<br />\n<br />\nFor more information\, please call 662-772-4164.
LOCATION:Baptist memorial Hospital - DeSoto (Outdoor Rehabilitation Courtyard)* 7601 Southcrest Parkway Southaven\, MS 38671 *Park at the North Entrance of the hospital.
UID:e.512.18541
SEQUENCE:3
DTSTAMP:20260420T021307Z
URL:https://southavenchamber-mosaic-gzcms.preview.gochambermaster.com/events/details/baptist-memorial-hospital-desoto-baby-fair-18541
END:VEVENT

END:VCALENDAR
