BEGIN:VCALENDAR
VERSION:2.0
PRODID:-//ChamberMaster//Event Calendar 2.0//EN
METHOD:PUBLISH
X-PUBLISHED-TTL:P3D
REFRESH-INTERVAL:P3D
CALSCALE:GREGORIAN
BEGIN:VEVENT
DTSTART:20181101T213000Z
DTEND:20181101T233000Z
X-MICROSOFT-CDO-ALLDAYEVENT:FALSE
SUMMARY:B2B PM
DESCRIPTION:This is a fabulous\, FREE after hours networking event to meet new people\, talk about business and win door prizes! Join us!\n\n\n\njoin us for cocktails & hors d'oeuvres w/ Piano's Flowers & Gifts for their Christmas Open House \n\n*IMPORTANT* note from Piano's for members: During the month of November\, mention the Southaven Chamber and we will donate 10% of your purchase to the Southaven Chamber*
X-ALT-DESC;FMTTYPE=text/html:This is a fabulous\, FREE after hours<span style="color: rgb(51\, 51\, 51)\; font-family: sans-serif\, Arial\, Verdana\, &quot\;Trebuchet MS&quot\;\; font-size: 13px\; background-color: rgb(255\, 255\, 255)\;">&nbsp\;networking event to meet new people\, talk about business and win door prizes! Join us!</span><br />\n<br />\n<span style="display: inline !important\; float: none\; background-color: transparent\; color: rgb(29\, 33\, 41)\; font-family: Helvetica\,Arial\,sans-serif\; font-size: 14px\; font-style: normal\; font-variant: normal\; font-weight: 400\; letter-spacing: normal\; orphans: 2\; text-align: left\; text-decoration: none\; text-indent: 0px\; text-transform: none\; -webkit-text-stroke-width: 0px\; white-space: normal\; word-spacing: 0px\;">join us for cocktails &amp\; hors d&rsquo\;oeuvres w/ Piano&#39\;s Flowers &amp\; Gifts for their Christmas Open House</span><span style="display: inline !important\; float: none\; background-color: transparent\; color: rgb(29\, 33\, 41)\; font-family: Helvetica\,Arial\,sans-serif\; font-size: 14px\; font-style: normal\; font-variant: normal\; font-weight: 400\; letter-spacing: normal\; orphans: 2\; text-align: left\; text-decoration: none\; text-indent: 0px\; text-transform: none\; -webkit-text-stroke-width: 0px\; white-space: normal\; word-spacing: 0px\;">&nbsp\;</span><br style="background-color: transparent\; color: rgb(29\, 33\, 41)\; display: inline\; font-family: Helvetica\,Arial\,sans-serif\; font-size: 14px\; font-style: normal\; font-variant: normal\; font-weight: 400\; letter-spacing: normal\; margin-bottom: 0px\; margin-left: 0px\; margin-right: 0px\; margin-top: 0px\; orphans: 2\; text-align: left\; text-decoration: none\; text-indent: 0px\; text-transform: none\; -webkit-text-stroke-width: 0px\; white-space: normal\; word-spacing: 0px\;" />\n<span style="display: inline !important\; float: none\; background-color: transparent\; color: rgb(29\, 33\, 41)\; font-family: Helvetica\,Arial\,sans-serif\; font-size: 14px\; font-style: normal\; font-variant: normal\; font-weight: 400\; letter-spacing: normal\; orphans: 2\; text-align: left\; text-decoration: none\; text-indent: 0px\; text-transform: none\; -webkit-text-stroke-width: 0px\; white-space: normal\; word-spacing: 0px\;">*IMPORTANT* note from Piano&rsquo\;s for members: During the month of November\, mention the Southaven Chamber and we will donate 10% of your purchase to the Southaven Chamber* </span>
LOCATION:4532 Elvis Presley Blvd.
UID:e.512.5597
SEQUENCE:3
DTSTAMP:20260425T034635Z
URL:https://southavenchamber-mosaic-gzcms.preview.gochambermaster.com/events/details/b2b-pm-5597
END:VEVENT

END:VCALENDAR
