BEGIN:VCALENDAR
VERSION:2.0
PRODID:-//ChamberMaster//Event Calendar 2.0//EN
METHOD:PUBLISH
X-PUBLISHED-TTL:P3D
REFRESH-INTERVAL:P3D
CALSCALE:GREGORIAN
BEGIN:VEVENT
DTSTART:20180503T213000Z
DTEND:20180503T233000Z
X-MICROSOFT-CDO-ALLDAYEVENT:FALSE
SUMMARY:B2B PM
DESCRIPTION:Accurate Communications is an active and aggressive partner in the Chamber\, they are passionate about helping any sized business increase productivity and conserve scarce resources as it relates to voice\, data\, and cloud solutions.\n\n\n\nThis is a fabulous\, FREE after hours networking event (one of the few we do in Memphis)  and hope to see our Memphis members that don't make it to Southaven very often. Non-members are also welcome and the goal of the event is  to meet new people\, talk about business\, have a drink and collect some business cards\, as well as win door prizes! Join us!
X-ALT-DESC;FMTTYPE=text/html:<span style="color: rgb(59\, 59\, 59)\; font-family: &quot\;Source Sans Pro&quot\;\; font-size: 19px\;">Accurate Communications is an active and aggressive partner in the Chamber\, they are passionate about helping any sized business increase productivity and conserve scarce resources as it relates to voice\, data\, and cloud solutions.</span><br />\n<br />\n<span style="color: rgb(59\, 59\, 59)\; font-family: &quot\;Source Sans Pro&quot\;\; font-size: 19px\; background-color: rgb(255\, 255\, 255)\;">This is a fabulous\, FREE after hours networking event (one of the few we do in Memphis)&nbsp\; and hope to see our Memphis members that don&#39\;t make it to Southaven very often. Non-members are also welcome and the goal of the event is&nbsp\; to meet new people\, talk about business\, have a drink and collect some business cards\, as well as win door prizes! Join us!&nbsp\;</span>
LOCATION:Accurate Communications Clark Tower 5100 Poplar Avenue Memphis\, TN 38137 FIRST FLOOR
UID:e.512.5586
SEQUENCE:3
DTSTAMP:20260425T221147Z
URL:https://southavenchamber-mosaic-gzcms.preview.gochambermaster.com/events/details/b2b-pm-5586
END:VEVENT

END:VCALENDAR
