BEGIN:VCALENDAR
VERSION:2.0
PRODID:-//ChamberMaster//Event Calendar 2.0//EN
METHOD:PUBLISH
X-PUBLISHED-TTL:P3D
REFRESH-INTERVAL:P3D
CALSCALE:GREGORIAN
BEGIN:VEVENT
DTSTART:20220106T223000Z
DTEND:20220107T003000Z
X-MICROSOFT-CDO-ALLDAYEVENT:FALSE
SUMMARY:B2B PM
DESCRIPTION:B2B PM\, 4:30PM   6:30PM\, Southaven Chamber of Commerce\, 500 Main Street\, Southaven\, MS 38671:  Kick off the new year by joining us for B2B PM here at our office\, sponsored by Home Ace! This is a fabulous FREE after hours networking event to meet new people\, talk about business and win door prizes. Make sure to bring plenty of business cards and invite a coworker!
X-ALT-DESC;FMTTYPE=text/html:<strong><span style="font-family:tahoma\,sans-serif\;"><span style="font-size:16pt\;">B2B PM\, 4:30PM &ndash\; 6:30PM\, Southaven Chamber of Commerce\, 500 Main Street\, Southaven\, MS 38671:&nbsp\;</span></span></strong><span style="font-family:tahoma\,sans-serif\;"><span style="font-size:16.0pt\;"> Kick off the new year by joining us for B2B PM here at our office\, sponsored by Home Ace! This is a fabulous FREE after hours networking event to meet new people\, talk about business and win door prizes. Make sure to bring plenty of business cards and invite a coworker!</span></span>
LOCATION:Southaven Chamber of Commerce 500 Main Street Southaven\, MS 38671
UID:e.512.17145
SEQUENCE:3
DTSTAMP:20260422T020723Z
URL:https://southavenchamber-mosaic-gzcms.preview.gochambermaster.com/events/details/b2b-pm-17145
END:VEVENT

END:VCALENDAR
