BEGIN:VCALENDAR
VERSION:2.0
PRODID:-//ChamberMaster//Event Calendar 2.0//EN
METHOD:PUBLISH
X-PUBLISHED-TTL:P3D
REFRESH-INTERVAL:P3D
CALSCALE:GREGORIAN
BEGIN:VEVENT
DTSTART:20210805T213000Z
DTEND:20210805T233000Z
X-MICROSOFT-CDO-ALLDAYEVENT:FALSE
SUMMARY:B2B PM
DESCRIPTION:B2B PM\, 4:30PM   6:30PM\, 500 Main Street\, Southaven\, MS 38671: Join us for B2B PM here at our office! This is a fabulous FREE after hours networking event to meet new people\, talk about business and win door prizes! Also\, come to learn about how we are putting the FUN in FUNdraiser in summer of 2022 by Sailing Away with the Southaven Chamber!
X-ALT-DESC;FMTTYPE=text/html:<strong><span style="color:black\;"><span style="font-family:tahoma\,sans-serif\;"><span style="font-size:16.0pt\;">B2B PM\, 4:30PM &ndash\; 6:30PM\, 500 Main Street\, Southaven\, MS 38671: </span></span></span></strong><span style="color:black\;"><span style="font-family:tahoma\,sans-serif\;"><span style="font-size:16.0pt\;">Join us for B2B PM here at our office! This is a fabulous FREE after hours networking event to meet new people\, talk about business and win door prizes!</span></span></span><span style="font-family:tahoma\,sans-serif\;"><span style="font-size:16.0pt\;"> Also\, come to learn about how we are putting the FUN in FUNdraiser in summer of 2022 by Sailing Away with the Southaven Chamber!</span></span>
LOCATION:500 Main Street Southaven\, MS 38671
UID:e.512.16211
SEQUENCE:3
DTSTAMP:20260422T184628Z
URL:https://southavenchamber-mosaic-gzcms.preview.gochambermaster.com/events/details/b2b-pm-16211
END:VEVENT

END:VCALENDAR
