BEGIN:VCALENDAR
VERSION:2.0
PRODID:-//ChamberMaster//Event Calendar 2.0//EN
METHOD:PUBLISH
X-PUBLISHED-TTL:P3D
REFRESH-INTERVAL:P3D
CALSCALE:GREGORIAN
BEGIN:VEVENT
DTSTART:20200728T150000Z
DTEND:20200728T190000Z
X-MICROSOFT-CDO-ALLDAYEVENT:FALSE
SUMMARY:B12 & LIPO B Shots with True Medical Testing
DESCRIPTION:True Medical Testing is bringing B12 and LIPO B shots to the Southaven Chamber on Tuesday\, July 28th.They will accept walk-ins\, but please register in advance! Cash or Card. \n\n\n\nPlease register! https://southavenchamber.chambermaster.com/eventregistration/register/16166
X-ALT-DESC;FMTTYPE=text/html:True Medical Testing is bringing B12 and LIPO B shots to the Southaven Chamber on Tuesday\, July 28th.They will accept walk-ins\, but please register in advance! Cash or Card.&nbsp\;<br />\n<br />\nPlease register!&nbsp\;<a href="https://southavenchamber.chambermaster.com/eventregistration/register/16166">https://southavenchamber.chambermaster.com/eventregistration/register/16166</a>
LOCATION:Southaven Chamber 500 Main Street Southaven\, MS 38671
UID:e.512.16166
SEQUENCE:3
DTSTAMP:20260423T170538Z
URL:https://southavenchamber-mosaic-gzcms.preview.gochambermaster.com/events/details/b12-lipo-b-shots-with-true-medical-testing-16166
END:VEVENT

END:VCALENDAR
