BEGIN:VCALENDAR
VERSION:2.0
PRODID:-//ChamberMaster//Event Calendar 2.0//EN
METHOD:PUBLISH
X-PUBLISHED-TTL:P3D
REFRESH-INTERVAL:P3D
CALSCALE:GREGORIAN
BEGIN:VEVENT
DTSTART:20210713T210000Z
DTEND:20210713T230000Z
X-MICROSOFT-CDO-ALLDAYEVENT:FALSE
SUMMARY:Anniversary - Select Title & Escrow
DESCRIPTION:Anniversary\, 4PM\, Select Title & Escrow\, 5740 Getwell Rd.\, Bldg 8A\, Southaven\, MS 38672: Please join us at Select Title & Escrow to congratulate them on their 15th anniversary of being in business! We will be celebrating by taking a picture to capture this milestone they have reached. They will have finger foods and beverages!
X-ALT-DESC;FMTTYPE=text/html:<strong><span style="color:black\;"><span style="font-family:tahoma\,sans-serif\;"><span style="font-size:16.0pt\;">Anniversary\, 4PM\, Select Title &amp\; Escrow\, 5740 Getwell Rd.\, Bldg 8A\, Southaven\, MS 38672: </span></span></span></strong><span style="color:black\;"><span style="font-family:tahoma\,sans-serif\;"><span style="font-size:16.0pt\;">Please join us at Select Title &amp\; Escrow to congratulate them on their 15<sup>th</sup> anniversary of being in business! We will be celebrating by taking a picture to capture this milestone they have reached. They will have finger foods and beverages!</span></span></span>
LOCATION:Select Title & Escrow 5740 Getwell Rd.\, Bldg 8A Southaven\, MS 38672
UID:e.512.16849
SEQUENCE:3
DTSTAMP:20260422T184625Z
URL:https://southavenchamber-mosaic-gzcms.preview.gochambermaster.com/events/details/anniversary-select-title-escrow-16849
END:VEVENT

END:VCALENDAR
