BEGIN:VCALENDAR
VERSION:2.0
PRODID:-//ChamberMaster//Event Calendar 2.0//EN
METHOD:PUBLISH
X-PUBLISHED-TTL:P3D
REFRESH-INTERVAL:P3D
CALSCALE:GREGORIAN
BEGIN:VEVENT
DTSTART:20221110T180000Z
DTEND:20221110T190000Z
X-MICROSOFT-CDO-ALLDAYEVENT:FALSE
SUMMARY:Anniversary Celebration - Pottery Haven's 4th Anniversary
DESCRIPTION:Anniversary Celebration\, Pottery Haven\, 12PM\, 5847 Getwell Rd.\, Ste A9\, Southaven\, MS 38672: Join us as we celebrate with Pottery Haven for their 4 year anniversary! We will be taking an anniversary photo with Sheri Floyd\, owner of Pottery Haven\, and her team. They also want to welcome you back on Saturday November 12th for a day of fun! They are celebrating with some swag\, sips & nibbles\, and special Christmas & Birthday pottery discounts! All adult painters on this day will be entered for a drawing to WIN FREE POTTERY FOR A YEAR! Don't miss free face painting from 1PM   3PM\, Santa at 3PM as well as train rides and a petting zoo!
X-ALT-DESC;FMTTYPE=text/html:<strong><span style="color:#333333\;"><span style="font-family:tahoma\,sans-serif\;"><span style="font-size:16.0pt\;">Anniversary&nbsp\;Celebration\, Pottery Haven\, 12PM\, 5847 Getwell Rd.\, Ste A9\, Southaven\, MS 38672:&nbsp\;</span></span></span></strong><span style="color:#333333\;"><span style="font-family:tahoma\,sans-serif\;"><span style="font-size:16.0pt\;">Join us as we celebrate with Pottery Haven for their 4 year anniversary! We will be taking an anniversary photo with Sheri Floyd\, owner of Pottery Haven\, and her team. They also want to welcome you back on Saturday November 12<sup>th</sup> for a day of fun! They are celebrating with some swag\, sips &amp\; nibbles\, and special Christmas &amp\; Birthday pottery discounts! All adult painters on this day will be entered for a drawing to WIN FREE POTTERY FOR A YEAR! Don&#39\;t miss free face painting from 1PM &ndash\; 3PM\, Santa at 3PM as well as train rides and a petting zoo!</span></span></span>
LOCATION:
UID:e.512.18117
SEQUENCE:3
DTSTAMP:20260420T182402Z
URL:https://southavenchamber-mosaic-gzcms.preview.gochambermaster.com/events/details/anniversary-celebration-pottery-haven-s-4th-anniversary-18117
END:VEVENT

END:VCALENDAR
