BEGIN:VCALENDAR
VERSION:2.0
PRODID:-//ChamberMaster//Event Calendar 2.0//EN
METHOD:PUBLISH
X-PUBLISHED-TTL:P3D
REFRESH-INTERVAL:P3D
CALSCALE:GREGORIAN
BEGIN:VEVENT
DTSTART:20191002T170000Z
DTEND:20191002T180000Z
X-MICROSOFT-CDO-ALLDAYEVENT:FALSE
SUMMARY:Anniversary Celebration-Kay’s Touch of Class -
DESCRIPTION:Please join us in celebrating Kay's Touch of Class being in business for one year! This small business owner is doing well and so proud of her accomplishments. She is a long time hair stylist that loves making people feel beautiful. We are happy to have her in the West End District of Southaven.  Please make plans to attend and meet Ms Kay and her staff in person.
X-ALT-DESC;FMTTYPE=text/html:<p class="MsoNormal">Please join us in celebrating Kay&rsquo\;s Touch of Class being in business for one year! This small business owner is doing well and so proud of her accomplishments. She is a long time hair stylist that loves making people feel beautiful. We are happy to have her in the West End District of Southaven.&nbsp\; Please make plans to attend and meet Ms Kay and her staff in person.&nbsp\;<o:p></o:p></p>\n
LOCATION:Kay's Touch of Class - 8028 Highway 51 N\, Southaven\, MS 38671\, United States
UID:e.512.15624
SEQUENCE:3
DTSTAMP:20260424T191819Z
URL:https://southavenchamber-mosaic-gzcms.preview.gochambermaster.com/events/details/anniversary-celebration-kay-s-touch-of-class-15624
END:VEVENT

END:VCALENDAR
