BEGIN:VCALENDAR
VERSION:2.0
PRODID:-//ChamberMaster//Event Calendar 2.0//EN
METHOD:PUBLISH
X-PUBLISHED-TTL:P3D
REFRESH-INTERVAL:P3D
CALSCALE:GREGORIAN
BEGIN:VEVENT
DTSTART:20201106T170000Z
DTEND:20201106T180000Z
X-MICROSOFT-CDO-ALLDAYEVENT:FALSE
SUMMARY:Anniversary Celebration - Janie Rose Boutique
DESCRIPTION:Join us in celebrating Janie Rose Boutique's 13th Year Anniversary! They will have storewide sales\, major markdowns\, new arrivals\, and giveaways. Please join us
X-ALT-DESC;FMTTYPE=text/html:<span style="border:none windowtext 1.0pt\;padding:0in\;"><span style="color:black\;"><span style="font-family:tahoma\,sans-serif\;"><span style="font-size:16.0pt\;">Join us in celebrating Janie Rose Boutique&rsquo\;s 13<sup>th&nbsp\;</sup>Year Anniversary! They will have storewide sales\, major markdowns\, new arrivals\, and giveaways. Please join us&nbsp\;</span></span></span></span><span style="border:none windowtext 1.0pt\;padding:0in\;"><span style="color:black\;"><span style="font-family:segoe ui emoji\,sans-serif\;"><span style="font-size:16.0pt\;"><span style="font-style:inherit\;font-variant:inherit\;font-weight:inherit\;font-stretch:inherit\;"><span style="color:inherit\;">&#128522\;</span></span></span></span></span></span>
LOCATION:5627 Getwell Road\, MS 38672
UID:e.512.16542
SEQUENCE:3
DTSTAMP:20260423T081651Z
URL:https://southavenchamber-mosaic-gzcms.preview.gochambermaster.com/events/details/anniversary-celebration-janie-rose-boutique-16542
END:VEVENT

END:VCALENDAR
