BEGIN:VCALENDAR
VERSION:2.0
PRODID:-//ChamberMaster//Event Calendar 2.0//EN
METHOD:PUBLISH
X-PUBLISHED-TTL:P3D
REFRESH-INTERVAL:P3D
CALSCALE:GREGORIAN
BEGIN:VEVENT
DTSTART:20220422T160000Z
DTEND:20220422T180000Z
X-MICROSOFT-CDO-ALLDAYEVENT:FALSE
SUMMARY:Anniversary Celebration - iSmile Family Dentistry
DESCRIPTION:Anniversary Celebration\, 11AM\, iSmile Family Dentistry\, 1305 Church Rd.\, Southaven\, MS 38671: iSmile Family Dentistry is celebrating 10 years of business! We are happy to join them for this celebration on all the hard work they have put in over the years to get this far. Refreshments will be served and please RSVP for this event. We hope you are able to attend this photo opt.
X-ALT-DESC;FMTTYPE=text/html:<strong><span style="font-family:tahoma\,sans-serif\;"><span style="font-size:16pt\;">Anniversary Celebration\, 11AM\, iSmile Family Dentistry\, 1305 Church Rd.\, Southaven\, MS 38671:</span></span></strong> <span style="font-family:tahoma\,sans-serif\;"><span style="font-size:16.0pt\;">iSmile Family Dentistry is celebrating 10 years of business! We are happy to join them for this celebration on all the hard work they have put in over the years to get this far. Refreshments will be served and please RSVP for this event. We hope you are able to attend this photo opt.</span></span>
LOCATION:iSmile Family Dentistry 1305 Church Rd. Southaven\, MS 38671
UID:e.512.17235
SEQUENCE:3
DTSTAMP:20260421T130826Z
URL:https://southavenchamber-mosaic-gzcms.preview.gochambermaster.com/events/details/anniversary-celebration-ismile-family-dentistry-17235
END:VEVENT

END:VCALENDAR
