BEGIN:VCALENDAR
VERSION:2.0
PRODID:-//ChamberMaster//Event Calendar 2.0//EN
METHOD:PUBLISH
X-PUBLISHED-TTL:P3D
REFRESH-INTERVAL:P3D
CALSCALE:GREGORIAN
BEGIN:VEVENT
DTSTART:20190530T210000Z
DTEND:20190530T220000Z
X-MICROSOFT-CDO-ALLDAYEVENT:FALSE
SUMMARY:ANNIVERSARY CELEBRATION: Denise Silas - 25 years with Mary Kay
DESCRIPTION:Please join us in celebrating small business! Our very own Denise Silas\, Director of Mary Kay Cosmetics\, is celebrating 25 years in business! Please come be in her Anniversary picture and see what all Mary Kay has to offer while networking with other business leaders in the community. We hope to see you stop by to congratulate Denise on this magnificent accomplishment!
X-ALT-DESC;FMTTYPE=text/html:<span style="font-family:arial\;"><span style="font-size:12.0pt\;">Please join us in celebrating small business! Our very own Denise Silas\, Director of Mary Kay Cosmetics\, is celebrating 25 years in business! Please come be in her Anniversary picture and see what all Mary Kay has to offer while networking with other business leaders in the community. We hope to see you stop by to congratulate Denise on this magnificent accomplishment! </span></span>
LOCATION:Southaven Chamber of Commerce 500 Main Street Southaven\, MS 38671
UID:e.512.12435
SEQUENCE:3
DTSTAMP:20260424T185757Z
URL:https://southavenchamber-mosaic-gzcms.preview.gochambermaster.com/events/details/anniversary-celebration-denise-silas-25-years-with-mary-kay-12435
END:VEVENT

END:VCALENDAR
