BEGIN:VCALENDAR
VERSION:2.0
PRODID:-//ChamberMaster//Event Calendar 2.0//EN
METHOD:PUBLISH
X-PUBLISHED-TTL:P3D
REFRESH-INTERVAL:P3D
CALSCALE:GREGORIAN
BEGIN:VEVENT
DTSTART:20180412T200000Z
DTEND:20180412T230000Z
X-MICROSOFT-CDO-ALLDAYEVENT:FALSE
SUMMARY:A 2 Z Ribbon Cutting and Grand Opening
DESCRIPTION:Please join us in celebrating small business by welcoming A 2 Z to DeSoto County! They were established in Memphis\, but recently moved to Nesbit\, MS. They will have refreshments and an afterhours after the ribbon cutting.
X-ALT-DESC;FMTTYPE=text/html:Please join us in celebrating small business by welcoming A 2 Z to DeSoto County! They were established in Memphis\, but recently moved to Nesbit\, MS. They will have refreshments and an afterhours&nbsp\;after the ribbon cutting.
LOCATION:2593 Hwy 51N Nesbit\, MS 38651
UID:e.512.5584
SEQUENCE:3
DTSTAMP:20260425T221046Z
URL:https://southavenchamber-mosaic-gzcms.preview.gochambermaster.com/events/details/a-2-z-ribbon-cutting-and-grand-opening-5584
END:VEVENT

END:VCALENDAR
