BEGIN:VCALENDAR
VERSION:2.0
PRODID:-//ChamberMaster//Event Calendar 2.0//EN
METHOD:PUBLISH
X-PUBLISHED-TTL:P3D
REFRESH-INTERVAL:P3D
CALSCALE:GREGORIAN
BEGIN:VEVENT
DTSTART:20181110T170000Z
DTEND:20181110T220000Z
X-MICROSOFT-CDO-ALLDAYEVENT:FALSE
SUMMARY:2nd Annual Health & Wellness Fair - Sound Mind\, Sound Body!
DESCRIPTION:The 2nd Annual Health & Wellness Fair presented by Psycamore Psychiatric Programs will take place on November 10th at Tanger Outlet Mall in Southaven\, MS. Once again\, the focus of this event will be\, "Sound Mind\, Sound Body". Our goal is to promote healthy lifestyles and healthy mindsets to encompass the "total body" concept and mindfulness. We encourage all healthcare and/or related industries to sign-up to participate in this community event. To register online\, click the link below:\n\nhttps://form.jotform.com/72966761484168
X-ALT-DESC;FMTTYPE=text/html:<p>The 2nd Annual Health &amp\; Wellness Fair presented by Psycamore Psychiatric Programs will take place on November 10th at Tanger Outlet Mall in Southaven\, MS. Once again\, the focus of this event will be\, &quot\;Sound Mind\, Sound Body&quot\;. Our goal is to promote healthy lifestyles and healthy mindsets to encompass the &quot\;total body&quot\; concept and mindfulness. We encourage all healthcare and/or related industries to sign-up to participate in this community event. To register online\, click the link below:</p>\n\n<p><a href="https://form.jotform.com/72966761484168">https://form.jotform.com/72966761484168</a><br />\n<br />\n&nbsp\;</p>\n
LOCATION:LOCATION Tanger Outlets Southaven 5205 Airways Boulevard Southaven\, MS 38671
UID:e.512.11554
SEQUENCE:3
DTSTAMP:20260425T024012Z
URL:https://southavenchamber-mosaic-gzcms.preview.gochambermaster.com/events/details/2nd-annual-health-wellness-fair-sound-mind-sound-body-11554
END:VEVENT

END:VCALENDAR
