BEGIN:VCALENDAR
VERSION:2.0
PRODID:-//ChamberMaster//Event Calendar 2.0//EN
METHOD:PUBLISH
X-PUBLISHED-TTL:P3D
REFRESH-INTERVAL:P3D
CALSCALE:GREGORIAN
BEGIN:VEVENT
DTSTART;VALUE=DATE:20220915
DTEND;VALUE=DATE:20220916
TRANSP:TRANSPARENT
X-MICROSOFT-CDO-ALLDAYEVENT:TRUE
SUMMARY:2+2 Scholarship Golf Tournament
DESCRIPTION:The Annual 2+2 Golf Tournament will be held on Thursday\, September 15\, 2022 at Cherokee Valley Golf Course. More information coming soon. We look forward to seeing you again this year!
X-ALT-DESC;FMTTYPE=text/html:The Annual 2+2 Golf Tournament will be held on Thursday\, September 15\, 2022 at Cherokee Valley Golf Course. More information coming soon. We look forward to seeing you again this year!
LOCATION:Cherokee Valley Golf Course 6635 Crumpler Blvd. Olive Branch\, MS 38654
UID:e.512.17259
SEQUENCE:3
DTSTAMP:20260421T014017Z
URL:https://southavenchamber-mosaic-gzcms.preview.gochambermaster.com/events/details/2-2-scholarship-golf-tournament-09-15-2022-17259
END:VEVENT

END:VCALENDAR
