BEGIN:VCALENDAR
VERSION:2.0
PRODID:-//ChamberMaster//Event Calendar 2.0//EN
METHOD:PUBLISH
X-PUBLISHED-TTL:P3D
REFRESH-INTERVAL:P3D
CALSCALE:GREGORIAN
BEGIN:VEVENT
DTSTART:20230422T230000Z
DTEND:20230423T030000Z
X-MICROSOFT-CDO-ALLDAYEVENT:FALSE
SUMMARY:19th Annual Mudbug Bash
DESCRIPTION:The 19th Annual Mudbug Bash benefiting Palmer Home for Children presented by Sky Lake Construction offers an opportunity to enjoy live music\, great food\, a silent auction\, and a whole lot of fun   all for a great cause!\n\nEach year\, Panola Street in historic downtown Hernando is transformed into an outdoor event venue in support of Palmer Home's mission to rescue and restore children in need. We hope you'll join us for our 19th annual event!\n\nVisit www.palmerhome.org/mudbug for tickets and sponsorship information.
X-ALT-DESC;FMTTYPE=text/html:<div>\n<p>The 19th Annual Mudbug Bash benefiting Palmer Home for Children presented by Sky Lake Construction offers an opportunity to enjoy live music\, great food\, a silent auction\, and a whole lot of fun &ndash\; all for a great cause!</p>\n\n<p>Each year\, Panola Street in historic downtown Hernando is transformed into an outdoor event venue in support of Palmer Home&rsquo\;s mission to rescue and restore children in need. We hope you&#39\;ll join us for our 19th annual event!</p>\n\n<p>Visit <a href="http://www.palmerhome.org/mudbug">www.palmerhome.org/mudbug</a>&nbsp\;for tickets and sponsorship information.</p>\n</div>\n
LOCATION:Downtown Hernando Hernando\, Mississippi
UID:e.512.18507
SEQUENCE:3
DTSTAMP:20260420T034432Z
URL:https://southavenchamber-mosaic-gzcms.preview.gochambermaster.com/events/details/19th-annual-mudbug-bash-18507
END:VEVENT

END:VCALENDAR
